BEGIN:VCALENDAR
VERSION:2.0
PRODID:-//esCuccia - ECPv6.15.20//NONSGML v1.0//EN
CALSCALE:GREGORIAN
METHOD:PUBLISH
X-ORIGINAL-URL:https://escuccia.com
X-WR-CALDESC:Eventos para esCuccia
REFRESH-INTERVAL;VALUE=DURATION:PT1H
X-Robots-Tag:noindex
X-PUBLISHED-TTL:PT1H
BEGIN:VTIMEZONE
TZID:Europe/Madrid
BEGIN:DAYLIGHT
TZOFFSETFROM:+0100
TZOFFSETTO:+0200
TZNAME:CEST
DTSTART:20250330T010000
END:DAYLIGHT
BEGIN:STANDARD
TZOFFSETFROM:+0200
TZOFFSETTO:+0100
TZNAME:CET
DTSTART:20251026T010000
END:STANDARD
BEGIN:DAYLIGHT
TZOFFSETFROM:+0100
TZOFFSETTO:+0200
TZNAME:CEST
DTSTART:20260329T010000
END:DAYLIGHT
BEGIN:STANDARD
TZOFFSETFROM:+0200
TZOFFSETTO:+0100
TZNAME:CET
DTSTART:20261025T010000
END:STANDARD
BEGIN:DAYLIGHT
TZOFFSETFROM:+0100
TZOFFSETTO:+0200
TZNAME:CEST
DTSTART:20270328T010000
END:DAYLIGHT
BEGIN:STANDARD
TZOFFSETFROM:+0200
TZOFFSETTO:+0100
TZNAME:CET
DTSTART:20271031T010000
END:STANDARD
END:VTIMEZONE
BEGIN:VEVENT
DTSTART;TZID=Europe/Madrid:20260101T090000
DTEND;TZID=Europe/Madrid:20261231T233000
DTSTAMP:20260424T162644
CREATED:20250101T145944Z
LAST-MODIFIED:20260126T132812Z
UID:2734-1767258000-1798759800@escuccia.com
SUMMARY:El Título y el Subtítulo de tu Obra son Clave para tu Mensaje
DESCRIPTION:En esta sesión\, analizaremos las técnicas para escoger el mejor Título y Subtítulo para tu Libro\, descartando que hayas otras obras con el mismo título para evitar confusiones y posibles denuncias. \nTérminos y condiciones:\nCLASES INDIVIDUALES online.\nUNA VEZ REALIZADO EL PAGO DE LAS 10 SESIONES\, CONTACTA DIRECTAMENTE CON GIOVANNA\n(por email: info@escuccia.com) PARA LA PLANIFICACIÓN DE FECHAS  Y ASÍ EMPEZAR DE INMEDIATO.
URL:https://escuccia.com/event/el-titulo-y-el-subtitulo-de-tu-obra-son-clave-para-transmitir-tu-mensaje/
LOCATION:Privado: esCuccia online\, La Clota Cotreball Espai Groc\, Av. de l'Estatut de Catalunya\, 1\, Barcelona\, Barcelona\, 08024\, Spain
ATTACH;FMTTYPE=image/webp:https://escuccia.com/wp-content/uploads/2024/12/20160707_120926.webp
END:VEVENT
BEGIN:VEVENT
DTSTART;TZID=Europe/Madrid:20260101T090000
DTEND;TZID=Europe/Madrid:20261231T233000
DTSTAMP:20260424T162644
CREATED:20250101T150207Z
LAST-MODIFIED:20260126T132431Z
UID:2781-1767258000-1798759800@escuccia.com
SUMMARY:La Competencia como Oportunidad\, tu Océano Azul
DESCRIPTION:En esta sesión de mentoría individual\, analizaremos los nichos de mercado de tu Libro (partiendo de una reflexión más amplia sobre el género: Ficción/No ficción y todas las subcategorías temáticas)\, subrayando la importancia de confiar en la propia Voz y en crear el propio Océano Azul. \nTérminos y condiciones:\nCLASES INDIVIDUALES online.\nUNA VEZ REALIZADO EL PAGO DE LAS 10 SESIONES\, CONTACTA DIRECTAMENTE CON GIOVANNA\n(por email: info@escuccia.com) PARA LA PLANIFICACIÓN DE FECHAS  Y ASÍ EMPEZAR DE INMEDIATO.
URL:https://escuccia.com/event/la-competencia-como-oportunidad-tu-oceano-azul/
LOCATION:Privado: esCuccia online\, La Clota Cotreball Espai Groc\, Av. de l'Estatut de Catalunya\, 1\, Barcelona\, Barcelona\, 08024\, Spain
ATTACH;FMTTYPE=image/webp:https://escuccia.com/wp-content/uploads/2024/12/20160513_124434.webp
END:VEVENT
BEGIN:VEVENT
DTSTART;TZID=Europe/Madrid:20260101T090000
DTEND;TZID=Europe/Madrid:20261231T233000
DTSTAMP:20260424T162644
CREATED:20250101T150312Z
LAST-MODIFIED:20260126T132130Z
UID:2927-1767258000-1798759800@escuccia.com
SUMMARY:Los Libros de Autoayuda más leídos de Todos los Tiempos
DESCRIPTION:En esta sesión\, haremos una repaso de los Libros de Autoayuda más leídos de Todos los Tiempos con la finalidad de aprender de los Grandes Maestros del género. Gracias a un análisis profesional de los bestseller es posible llegar a las reglas de Oro del Escritor de Libros de Crecimiento Interior y Desarrollo Personal. \nTérminos y condiciones:\nCLASES INDIVIDUALES online.\nUNA VEZ REALIZADO EL PAGO DE LAS 10 SESIONES\, CONTACTA DIRECTAMENTE CON GIOVANNA\n(por email: info@escuccia.com) PARA LA PLANIFICACIÓN DE FECHAS  Y ASÍ EMPEZAR DE INMEDIATO.
URL:https://escuccia.com/event/los-libros-de-autoayuda-mas-leidos-de-todos-los-tiempos/
LOCATION:Privado: esCuccia online\, La Clota Cotreball Espai Groc\, Av. de l'Estatut de Catalunya\, 1\, Barcelona\, Barcelona\, 08024\, Spain
ATTACH;FMTTYPE=image/jpeg:https://escuccia.com/wp-content/uploads/2025/01/TOP-libros-de-motivacion-personal.webp
END:VEVENT
BEGIN:VEVENT
DTSTART;TZID=Europe/Madrid:20260101T190000
DTEND;TZID=Europe/Madrid:20261231T233000
DTSTAMP:20260424T162644
CREATED:20250101T145923Z
LAST-MODIFIED:20260126T133211Z
UID:2717-1767294000-1798759800@escuccia.com
SUMMARY:Brainstorming para decidir el Contenido y el Formato de tu Libro
DESCRIPTION:En esta sesión nos centraremos en la temática y en el formato más adecuado para convertir tus Conocimientos y Vivencias en Sabiduría en formato Libro. \nTérminos y condiciones:\nCLASES INDIVIDUALES online.\nUNA VEZ REALIZADO EL PAGO DE LAS 10 SESIONES\, CONTACTA DIRECTAMENTE CON GIOVANNA\n(por email: info@escuccia.com) PARA LA PLANIFICACIÓN DE FECHAS  Y ASÍ EMPEZAR DE INMEDIATO.
URL:https://escuccia.com/event/brainstorming-para-decidir-el-contenido-y-el-formato-de-tu-libro/
LOCATION:Privado: esCuccia online\, La Clota Cotreball Espai Groc\, Av. de l'Estatut de Catalunya\, 1\, Barcelona\, Barcelona\, 08024\, Spain
ATTACH;FMTTYPE=image/jpeg:https://escuccia.com/wp-content/uploads/2024/12/propuesta-editorial.webp
END:VEVENT
END:VCALENDAR